BEGIN:VCALENDAR
VERSION:2.0
PRODID:-//CRTAA - ECPv6.15.18//NONSGML v1.0//EN
CALSCALE:GREGORIAN
METHOD:PUBLISH
X-WR-CALNAME:CRTAA
X-ORIGINAL-URL:https://crtaa.dz
X-WR-CALDESC:Évènements pour CRTAA
REFRESH-INTERVAL;VALUE=DURATION:PT1H
X-Robots-Tag:noindex
X-PUBLISHED-TTL:PT1H
BEGIN:VTIMEZONE
TZID:Europe/Paris
BEGIN:DAYLIGHT
TZOFFSETFROM:+0100
TZOFFSETTO:+0200
TZNAME:CEST
DTSTART:20230326T010000
END:DAYLIGHT
BEGIN:STANDARD
TZOFFSETFROM:+0200
TZOFFSETTO:+0100
TZNAME:CET
DTSTART:20231029T010000
END:STANDARD
BEGIN:DAYLIGHT
TZOFFSETFROM:+0100
TZOFFSETTO:+0200
TZNAME:CEST
DTSTART:20240331T010000
END:DAYLIGHT
BEGIN:STANDARD
TZOFFSETFROM:+0200
TZOFFSETTO:+0100
TZNAME:CET
DTSTART:20241027T010000
END:STANDARD
BEGIN:DAYLIGHT
TZOFFSETFROM:+0100
TZOFFSETTO:+0200
TZNAME:CEST
DTSTART:20250330T010000
END:DAYLIGHT
BEGIN:STANDARD
TZOFFSETFROM:+0200
TZOFFSETTO:+0100
TZNAME:CET
DTSTART:20251026T010000
END:STANDARD
END:VTIMEZONE
BEGIN:VEVENT
DTSTART;TZID=Europe/Paris:20241226T100000
DTEND;TZID=Europe/Paris:20241226T140000
DTSTAMP:20260423T153422
CREATED:20241120T081957Z
LAST-MODIFIED:20241120T082000Z
UID:8931-1735207200-1735221600@crtaa.dz
SUMMARY:Etat de l'art sur les procédés d'Oxydation avancée pour les traitements des eaux des effluents des industrie agro-alimentaire
DESCRIPTION:
URL:https://crtaa.dz/event/etat-de-lart-sur-les-procedes-doxydation-avancee-pour-les-traitements-des-eaux-des-effluents-des-industrie-agro-alimentaire/
ATTACH;FMTTYPE=image/jpeg:https://crtaa.dz/wp-content/uploads/2024/11/Etat-de-lart-sur-les-procedes-dOxydation-avancee-pour-les-traitements-des-eaux-des-effluents-des-industrie-agro-alimentaire-.jpg
END:VEVENT
END:VCALENDAR