BEGIN:VCALENDAR
VERSION:2.0
PRODID:-//CRTAA - ECPv6.15.18//NONSGML v1.0//EN
CALSCALE:GREGORIAN
METHOD:PUBLISH
X-ORIGINAL-URL:https://crtaa.dz
X-WR-CALDESC:Évènements pour CRTAA
REFRESH-INTERVAL;VALUE=DURATION:PT1H
X-Robots-Tag:noindex
X-PUBLISHED-TTL:PT1H
BEGIN:VTIMEZONE
TZID:Europe/Paris
BEGIN:DAYLIGHT
TZOFFSETFROM:+0100
TZOFFSETTO:+0200
TZNAME:CEST
DTSTART:20210328T010000
END:DAYLIGHT
BEGIN:STANDARD
TZOFFSETFROM:+0200
TZOFFSETTO:+0100
TZNAME:CET
DTSTART:20211031T010000
END:STANDARD
BEGIN:DAYLIGHT
TZOFFSETFROM:+0100
TZOFFSETTO:+0200
TZNAME:CEST
DTSTART:20220327T010000
END:DAYLIGHT
BEGIN:STANDARD
TZOFFSETFROM:+0200
TZOFFSETTO:+0100
TZNAME:CET
DTSTART:20221030T010000
END:STANDARD
BEGIN:DAYLIGHT
TZOFFSETFROM:+0100
TZOFFSETTO:+0200
TZNAME:CEST
DTSTART:20230326T010000
END:DAYLIGHT
BEGIN:STANDARD
TZOFFSETFROM:+0200
TZOFFSETTO:+0100
TZNAME:CET
DTSTART:20231029T010000
END:STANDARD
BEGIN:DAYLIGHT
TZOFFSETFROM:+0100
TZOFFSETTO:+0200
TZNAME:CEST
DTSTART:20240331T010000
END:DAYLIGHT
BEGIN:STANDARD
TZOFFSETFROM:+0200
TZOFFSETTO:+0100
TZNAME:CET
DTSTART:20241027T010000
END:STANDARD
BEGIN:DAYLIGHT
TZOFFSETFROM:+0100
TZOFFSETTO:+0200
TZNAME:CEST
DTSTART:20250330T010000
END:DAYLIGHT
BEGIN:STANDARD
TZOFFSETFROM:+0200
TZOFFSETTO:+0100
TZNAME:CET
DTSTART:20251026T010000
END:STANDARD
BEGIN:DAYLIGHT
TZOFFSETFROM:+0100
TZOFFSETTO:+0200
TZNAME:CEST
DTSTART:20260329T010000
END:DAYLIGHT
BEGIN:STANDARD
TZOFFSETFROM:+0200
TZOFFSETTO:+0100
TZNAME:CET
DTSTART:20261025T010000
END:STANDARD
BEGIN:DAYLIGHT
TZOFFSETFROM:+0100
TZOFFSETTO:+0200
TZNAME:CEST
DTSTART:20270328T010000
END:DAYLIGHT
BEGIN:STANDARD
TZOFFSETFROM:+0200
TZOFFSETTO:+0100
TZNAME:CET
DTSTART:20271031T010000
END:STANDARD
END:VTIMEZONE
BEGIN:VEVENT
DTSTART;TZID=Europe/Paris:20260419T090000
DTEND;TZID=Europe/Paris:20260419T170000
DTSTAMP:20260422T135842
CREATED:20260318T093159Z
LAST-MODIFIED:20260419T085320Z
UID:11688-1776589200-1776618000@crtaa.dz
SUMMARY:Première Journée Scientifique Div AEA: Usage des Pesticides en Production Agricole
DESCRIPTION:
URL:https://crtaa.dz/event/premiere-journee-scientifique-div-aea-usage-des-pesticides-en-production-agricole/
LOCATION:Centre de Recherche en Technologies Agro-Alimentaires\, Q22R+774\, Béjaïa\, Béjaïa\, 06000\, Algérie
ATTACH;FMTTYPE=image/jpeg:https://crtaa.dz/wp-content/uploads/2026/03/programme-scaled.jpg
ORGANIZER;CN="Centre de Recherche en Technologies Agro-Alimentaires":MAILTO:contact@crtaa.dz
END:VEVENT
BEGIN:VEVENT
DTSTART;TZID=Europe/Paris:20260412T000000
DTEND;TZID=Europe/Paris:20260414T235959
DTSTAMP:20260422T135842
CREATED:20260324T092628Z
LAST-MODIFIED:20260324T093358Z
UID:11693-1775952000-1776211199@crtaa.dz
SUMMARY:ESTINUP INCUBATOR ORGANIZES 2026
DESCRIPTION:Training Workshop: Leveraging  Artificail Intellegence for Innovation in  Biology and Food Chemistry
URL:https://crtaa.dz/event/estinup-incubator-organizes-2026/
LOCATION:Centre de Recherche en Technologies Agro-Alimentaires\, Q22R+774\, Béjaïa\, Béjaïa\, 06000\, Algérie
ATTACH;FMTTYPE=image/jpeg:https://crtaa.dz/wp-content/uploads/2026/03/657355993_122176850306786866_4368287434354995963_n.jpg
END:VEVENT
BEGIN:VEVENT
DTSTART;TZID=Europe/Paris:20260409T100000
DTEND;TZID=Europe/Paris:20260409T170000
DTSTAMP:20260422T135842
CREATED:20260406T090647Z
LAST-MODIFIED:20260407T093532Z
UID:12142-1775728800-1775754000@crtaa.dz
SUMMARY:WEBINAR: European pojects and coordination
DESCRIPTION:
URL:https://crtaa.dz/event/webinar-european-pojects-and-coordination/
LOCATION:Centre de Recherche en Technologies Agro-Alimentaires\, Q22R+774\, Béjaïa\, Béjaïa\, 06000\, Algérie
ATTACH;FMTTYPE=image/jpeg:https://crtaa.dz/wp-content/uploads/2026/04/663071773_122178542972786866_2719922003663315544_n.jpg
ORGANIZER;CN="Centre de Recherche en Technologies Agro-Alimentaires":MAILTO:contact@crtaa.dz
END:VEVENT
BEGIN:VEVENT
DTSTART;TZID=Europe/Paris:20260111T090000
DTEND;TZID=Europe/Paris:20260111T160000
DTSTAMP:20260422T135842
CREATED:20260106T145317Z
LAST-MODIFIED:20260106T145433Z
UID:10565-1768122000-1768147200@crtaa.dz
SUMMARY:YENNAYER: DU PATRIMONE À LA SCIENCE: Célébration du Nouvel An Amazigh 2976.
DESCRIPTION:
URL:https://crtaa.dz/event/yennayer-du-patrimone-a-la-science-celebration-du-nouvel-an-amazigh-2976/
ATTACH;FMTTYPE=image/jpeg:https://crtaa.dz/wp-content/uploads/2026/01/unnamed.jpg
ORGANIZER;CN="Centre de Recherche en Technologies Agro-Alimentaires":MAILTO:contact@crtaa.dz
END:VEVENT
BEGIN:VEVENT
DTSTART;TZID=Europe/Paris:20251126T090000
DTEND;TZID=Europe/Paris:20251126T170000
DTSTAMP:20260422T135842
CREATED:20251120T103919Z
LAST-MODIFIED:20251120T104403Z
UID:10459-1764147600-1764176400@crtaa.dz
SUMMARY:Journée Scientifique au CRTAA – Irradiation des Aliments
DESCRIPTION:Le CRTAA organise une journée scientifique dédiée aux principes fondamentaux de l’irradiation des aliments et à ses applications industrielles. Cette technologie innovante sera présentée comme une solution propre\, non thermique et performante pour renforcer la sécurité sanitaire\, prolonger la durée de conservation et améliorer la qualité des produits agroalimentaires \n\n\n\n\n\n\n\n\n\n\n\n\n\nCette rencontre offrira également un espace d’échanges entre professionnels du secteur\, chercheurs et institutions\, afin d’examiner la faisabilité technique et économique de l’intégration de cette technologie dans les chaînes de production\, tout en encourageant l’innovation et le transfert technologique.
URL:https://crtaa.dz/event/journee-scientifique-au-crtaa-irradiation-des-aliments/
LOCATION:Auditorium de Targua Ouzemmour\, Q22R+475\, Targa ouzemour\, Béjaïa\, Bejaia\, Algeria
ATTACH;FMTTYPE=image/jpeg:https://crtaa.dz/wp-content/uploads/2025/11/1000002756-e1763635402775.jpg
END:VEVENT
BEGIN:VEVENT
DTSTART;TZID=Europe/Paris:20250508T090000
DTEND;TZID=Europe/Paris:20250508T170000
DTSTAMP:20260422T135842
CREATED:20250504T144555Z
LAST-MODIFIED:20250504T151418Z
UID:9895-1746694800-1746723600@crtaa.dz
SUMMARY:𝗝𝗼𝘂𝗿𝗻é𝗲 𝗱'𝗶𝗻𝗳𝗼𝗿𝗺𝗮𝘁𝗶𝗼𝗻 𝗔𝗴𝗿𝗶'𝗽𝗿𝗲𝗻𝗲𝘂𝗿𝘀
DESCRIPTION:
URL:https://crtaa.dz/event/%f0%9d%97%9d%f0%9d%97%bc%f0%9d%98%82%f0%9d%97%bf%f0%9d%97%bbe%f0%9d%97%b2-%f0%9d%97%b1%f0%9d%97%b6%f0%9d%97%bb%f0%9d%97%b3%f0%9d%97%bc%f0%9d%97%bf%f0%9d%97%ba%f0%9d%97%ae%f0%9d%98%81%f0%9d%97%b6/
ATTACH;FMTTYPE=image/jpeg:https://crtaa.dz/wp-content/uploads/2025/05/495336122_122126103464786866_9126540109516019230_n.jpg
ORGANIZER;CN="CRTAA & We Can Space":MAILTO:contact@crtaa.dz
END:VEVENT
BEGIN:VEVENT
DTSTART;TZID=Europe/Paris:20241226T100000
DTEND;TZID=Europe/Paris:20241226T140000
DTSTAMP:20260422T135842
CREATED:20241120T081957Z
LAST-MODIFIED:20241120T082000Z
UID:8931-1735207200-1735221600@crtaa.dz
SUMMARY:Etat de l'art sur les procédés d'Oxydation avancée pour les traitements des eaux des effluents des industrie agro-alimentaire
DESCRIPTION:
URL:https://crtaa.dz/event/etat-de-lart-sur-les-procedes-doxydation-avancee-pour-les-traitements-des-eaux-des-effluents-des-industrie-agro-alimentaire/
ATTACH;FMTTYPE=image/jpeg:https://crtaa.dz/wp-content/uploads/2024/11/Etat-de-lart-sur-les-procedes-dOxydation-avancee-pour-les-traitements-des-eaux-des-effluents-des-industrie-agro-alimentaire-.jpg
END:VEVENT
BEGIN:VEVENT
DTSTART;TZID=Europe/Paris:20241126T100000
DTEND;TZID=Europe/Paris:20241126T140000
DTSTAMP:20260422T135842
CREATED:20241120T081524Z
LAST-MODIFIED:20241120T081527Z
UID:8928-1732615200-1732629600@crtaa.dz
SUMMARY:Artificial Intelligence for Earth Observation Conference
DESCRIPTION:Conférence Artificial Intelligence for Earth Observation
URL:https://crtaa.dz/event/artificial-intelligence-for-earth-observation-conference/
ATTACH;FMTTYPE=image/jpeg:https://crtaa.dz/wp-content/uploads/2024/11/Artificial-Intelligence-for-Earth-Observation-Conference.jpg
END:VEVENT
BEGIN:VEVENT
DTSTART;TZID=Europe/Paris:20241121T090000
DTEND;TZID=Europe/Paris:20241121T160000
DTSTAMP:20260422T135842
CREATED:20241120T080434Z
LAST-MODIFIED:20241120T080442Z
UID:8923-1732179600-1732204800@crtaa.dz
SUMMARY:L'impact du changement climatique sur les ressources en eau
DESCRIPTION:
URL:https://crtaa.dz/event/limpact-du-changement-climatique-sur-les-ressources-en-eau/
LOCATION:Université Alger1
ATTACH;FMTTYPE=image/jpeg:https://crtaa.dz/wp-content/uploads/2024/11/Limpact-du-changement-climatique-sur-les-ressources-en-eau.jpg
END:VEVENT
BEGIN:VEVENT
DTSTART;TZID=Europe/Paris:20241016T090000
DTEND;TZID=Europe/Paris:20241016T170000
DTSTAMP:20260422T135842
CREATED:20241013T140030Z
LAST-MODIFIED:20241013T141613Z
UID:8841-1729069200-1729098000@crtaa.dz
SUMMARY:La Journée mondiale de l'Alimentation 2024 - Le droit aux aliments au service d'une vie et d'un avenir meilleurs -
DESCRIPTION:Le Centre de Recherche en Technologies Agro-Alimentaires\, la Chambre d’Agriculture\, la Direction des Services Agricoles\, et l’Université de Béjaïa\, célèbrent au niveau de la salle des conférences de la DSA\, la journée mondiale de l’alimentation le 16 Octobre 2024.  \n\n\n\nSlogan retenu : Le droit aux aliments\, au service d’une vie et d’un avenir meilleurs.
URL:https://crtaa.dz/event/la-journee-mondiale-de-lalimentation-2024-le-droit-aux-aliments-au-service-dune-vie-et-dun-avenir-meilleurs/
LOCATION:Salle de conférence de la DSA\, P3Q5+RG4\, Rue Frères Tabet\, BEJAIA\, 06000\, Algeria
ATTACH;FMTTYPE=image/jpeg:https://crtaa.dz/wp-content/uploads/2024/10/462144755_1006423941287538_6691859122915074152_n.jpg
END:VEVENT
BEGIN:VEVENT
DTSTART;TZID=Europe/Paris:20241001T080000
DTEND;TZID=Europe/Paris:20241003T170000
DTSTAMP:20260422T135842
CREATED:20240929T100222Z
LAST-MODIFIED:20240929T121020Z
UID:8763-1727769600-1727974800@crtaa.dz
SUMMARY:Célébration de la 31éme édition : Journée Nationale de Vulgarisation Agricole
DESCRIPTION:L’Algérie célèbre la 31ème édition de la Journée Nationale de Vulgarisation Agricole\, qui se tiendra les 1er\, 2 et 3 octobre 2024 au Centre de Recherche en Technologies Agro-Alimentaires (CRTAA) à Béjaïa. Cet événement est un rendez-vous incontournable pour les acteurs du secteur agricole\, visant à promouvoir l’innovation\, la recherche\, et l’entrepreneuriat dans le domaine agricole. \n\n\n\n\n\n\n\nProgramme de l’Événement \n\n\n\nDurant ces trois jours\, le programme proposera une série d’activités\, incluant des conférences\, des débats\, et des expositions de produits agricoles locaux. La première journée sera consacrée au lancement officiel de la campagne labours semailles\, avec la participation de divers organismes agricoles. Les deuxième et troisième jours se dérouleront au CRTAA de Béjaïa\, avec des interventions d’experts sur les thèmes de l’entrepreneuriat agricole\, les opportunités de financement\, ainsi que les défis liés à certaines cultures spécifiques en Algérie. L’événement se conclura par des discussions ouvertes et la présentation des perspectives pour l’avenir du secteur agricole algérien.
URL:https://crtaa.dz/event/celebration-de-la-31eme-edition-journee-nationale-de-vulgarisation-agricole/
LOCATION:Centre de Recherche en Technologies Agro-Alimentaires\, Q22R+774\, Béjaïa\, Béjaïa\, 06000\, Algérie
ATTACH;FMTTYPE=image/jpeg:https://crtaa.dz/wp-content/uploads/2024/09/461299326_995576419038957_3007101356587100668_n.jpg
END:VEVENT
BEGIN:VEVENT
DTSTART;TZID=Europe/Paris:20240703T000000
DTEND;TZID=Europe/Paris:20240704T235959
DTSTAMP:20260422T135842
CREATED:20240628T142157Z
LAST-MODIFIED:20240628T142826Z
UID:8510-1719964800-1720137599@crtaa.dz
SUMMARY:Portes ouvertes sur le CRTAA
DESCRIPTION:
URL:https://crtaa.dz/event/portes-ouvertes-sur-le-crtaa/
LOCATION:Centre de Recherche en Technologies Agro-Alimentaires\, Q22R+774\, Béjaïa\, Béjaïa\, 06000\, Algérie
ATTACH;FMTTYPE=image/jpeg:https://crtaa.dz/wp-content/uploads/2024/06/portes-ouvertes-sur-le-crtaa.jpg
END:VEVENT
BEGIN:VEVENT
DTSTART;TZID=Europe/Paris:20240304T100000
DTEND;TZID=Europe/Paris:20240307T140000
DTSTAMP:20260422T135842
CREATED:20230322T075807Z
LAST-MODIFIED:20240227T131429Z
UID:6197-1709546400-1709820000@crtaa.dz
SUMMARY:Salon International de l'Industrie Agro-Alimnetaire
DESCRIPTION:Le CRTAA sera présent au Salon International de l’Industrie Agro-Alimentaire qui aura lieu du 04 au 07 Mars 2024 à Oran\, pour parler de l’Open Innovation et de la mobilisation de la recherche scientifique et de la R&D.\n\nLes grandes mutations irréversibles des dogmes auxquelles font face les industriels vont les obliger à tout faire et précipitamment\, ou couvrir leur inertie sous une enveloppe de modernité : ces deux choix à moyen et long terme sont nocifs. L’open innovation adaptera l’industriel à son histoire\, sa culture\, sa relation avec ses technologies et ses clients\, et mettra à contribution ses corps de métiers et ses fonctions.\nLe numérique est présent dans tous les méandres du progrès et du développement\, une open-innovation prend en compte la digitalisation visant à connecter les industriels aux néo-prestataires notamment les start-ups et spin-off\, et au monde de la recherche scientifique et le développement technologique.
URL:https://crtaa.dz/event/conference-du-pr-azioune-ammar-directeur-du-crbt-applications-des-systemes-bio-microfluidiques/
ATTACH;FMTTYPE=image/jpeg:https://crtaa.dz/wp-content/uploads/2024/02/424639130_8048953391786423_4929906849151438328_n.jpg
END:VEVENT
BEGIN:VEVENT
DTSTART;VALUE=DATE:20220515
DTEND;VALUE=DATE:20220520
DTSTAMP:20260422T135842
CREATED:20220428T100946Z
LAST-MODIFIED:20220428T101318Z
UID:4481-1652572800-1653004799@crtaa.dz
SUMMARY:مركز البحث في تكنولوجيات التغذية الزراعية يشارك في الأسبوع العلمي الوطني الثاني "سطيف" من 15 ماي إلى 19 ماي 2022 في الأمن الغذائي، الأمن الطاقوي وصحة المواطن
DESCRIPTION:
URL:https://crtaa.dz/event/%d9%85%d8%b1%d9%83%d8%b2-%d8%a7%d9%84%d8%a8%d8%ad%d8%ab-%d9%81%d9%8a-%d8%aa%d9%83%d9%86%d9%88%d9%84%d9%88%d8%ac%d9%8a%d8%a7%d8%aa-%d8%a7%d9%84%d8%aa%d8%ba%d8%b0%d9%8a%d8%a9-%d8%a7%d9%84%d8%b2%d8%b1/
END:VEVENT
BEGIN:VEVENT
DTSTART;TZID=Europe/Paris:20220427T133000
DTEND;TZID=Europe/Paris:20220427T170000
DTSTAMP:20260422T135842
CREATED:20220426T152028Z
LAST-MODIFIED:20220426T155813Z
UID:4450-1651066200-1651078800@crtaa.dz
SUMMARY:Webinaire sur l'élaboration des  projets PNR sur Zoom et la page Facebook dgrsdt-dprep
DESCRIPTION:  \n\nWebinaire sur l’élaboration des projets PNR\, mercredi 27/04/2022 à 13h30.\nParticiper à la réunion Zoom\nhttps://us06web.zoom.us/j/81725128768…\nID de réunion : 817 2512 8768\nCode secret : 444191\n\n\nle webinaire sera diffusé également en live sur Facebook sur la page dgrsdt-dprep et vous pourrez posez vos questions sur la page.
URL:https://crtaa.dz/event/webinaire-sur-lelaboration-des-projets-pnr-sur-zoom/
END:VEVENT
BEGIN:VEVENT
DTSTART;TZID=Europe/Paris:20220421T120000
DTEND;TZID=Europe/Paris:20220421T120000
DTSTAMP:20260422T135842
CREATED:20220414T190317Z
LAST-MODIFIED:20220414T234122Z
UID:4375-1650542400-1650542400@crtaa.dz
SUMMARY:Webinaire sur les PNR 2022 organisé par l'Agence Thématique de Recherche en Sciences de la Santé (ATRSS)
DESCRIPTION:L’Agence Thématique de Recherche en Sciences de la Santé et de la Vie organise un webinaire sur les PNR 2022\n\n\n la Santé du Citoyen\n la Sécurité Alimentaire\n\n\nle Jeudi 21 Avril à 12h00 VIA Zoom Meeting\n\n\nPour s’inscrire au webinaire cliquez sur ce lien :\nhttps://docs.google.com/forms/d/e/1FAIpQLSe9QuIRr30g62XG0ACYhlHjISY_h-ZYEqAoCwpGqBsRPFTBqw/viewform?usp=sf_link
URL:https://crtaa.dz/event/webinaire-sur-les-pnr-2022-organise-par-lagence-thematique-de-recherche-en-sciences-de-la-sante-atrss/
ATTACH;FMTTYPE=image/jpeg:https://crtaa.dz/wp-content/uploads/2022/04/Webinaire-ATRSS.jpg
END:VEVENT
BEGIN:VEVENT
DTSTART;TZID=Europe/Paris:20220410T083000
DTEND;TZID=Europe/Paris:20220410T083000
DTSTAMP:20260422T135842
CREATED:20220408T133427Z
LAST-MODIFIED:20220408T135040Z
UID:4350-1649579400-1649579400@crtaa.dz
SUMMARY:Rendez-vous avec une émission qui sera diffusé sur TV4 tamazight traitant la thématique des épices avec le Pr. Khodir MADANI
DESCRIPTION:  \nDiffusion d’une émission sur TV4 tamazight avec comme invité notre directeur le Professeur Khodir MADANI traitant de la thématique des épices (recherche\, développement technologiques\, commerce\, contrôle de qualité ….etc) le Dimanche 10 Avril 2022 à 08H30 et la rediffusion le même jour à 12H00.
URL:https://crtaa.dz/event/rendez-vous-dune-emission-qui-sera-diffuse-sur-tv4-tamazight-traitant-la-thematique-des-epices-avec-le-pr-khodir-madani/
END:VEVENT
BEGIN:VEVENT
DTSTART;VALUE=DATE:20220318
DTEND;VALUE=DATE:20220322
DTSTAMP:20260422T135842
CREATED:20220316T145744Z
LAST-MODIFIED:20220317T134113Z
UID:4205-1647561600-1647907199@crtaa.dz
SUMMARY:Forêt ever première édition à Adekar
DESCRIPTION:La forêt de l’Akfadou\, dont le massif boisé s’étale sur une superficie de plus de 16.000 hectares\, chevauchant deux wilayas\, celles de Béjaïa et de Tizi Ouzou. \nCe massif\,  l’un des plus importants d’Afrique du nord situé dans l’Atlas tellien\, à quelque 50 km à l’est de la wilaya Tizi-Ouzou et à 20 km du littoral méditerranéen\, représente 25 % des forêts de feuillus d’Algérie. Le massif s’étage à 1646 m d’altitude. Sa richesse floristique n’est pas négligeable. On dénombre 484 espèces et sous-espèces végétales\, représentant 16\,50 % de la flore du nord de l’Algérie\, 171 espèces de plantes médicinales et 59 espèces de mousse.\nL’Akfadou se classe juste derrière le Parc national du Djurdjura\, dont il occupe 39 % du relief. Quant à l’aspect faunistique\, on dénombre 16 espèces de mammifères dont 10 sont protégées par la loi et 81 espèces d’oiseaux représentant 27 familles.\nAdekar\, le 18\, 19\, 20 et 21 Mars 2022.\nNous planterons des arbres\, nous nettoierons la forêt\, nous ferons des randonnées\, nous exposerons des produits de la forêt\, nous accompagnerons les clubs verts des écoles primaires\, ……….nous débattrons pour la protection du massif de l’akfadou et de son classement en aire protégée.
URL:https://crtaa.dz/event/foret-ever-premiere-edition/
LOCATION:Adekar\, Adekar\, Béjaia\, Algérie
END:VEVENT
END:VCALENDAR